BEGIN:VCALENDAR
VERSION:2.0
PRODID:-//Eram Public College - ECPv6.10.3//NONSGML v1.0//EN
CALSCALE:GREGORIAN
METHOD:PUBLISH
X-ORIGINAL-URL:https://erampubliccollege.in
X-WR-CALDESC:Events for Eram Public College
REFRESH-INTERVAL;VALUE=DURATION:PT1H
X-Robots-Tag:noindex
X-PUBLISHED-TTL:PT1H
BEGIN:VTIMEZONE
TZID:UTC
BEGIN:STANDARD
TZOFFSETFROM:+0000
TZOFFSETTO:+0000
TZNAME:UTC
DTSTART:20260101T000000
END:STANDARD
END:VTIMEZONE
BEGIN:VEVENT
DTSTART;TZID=UTC:20260131T000000
DTEND;TZID=UTC:20260131T233000
DTSTAMP:20260421T082723
CREATED:20250811T123851Z
LAST-MODIFIED:20250811T123851Z
UID:13616-1769817600-1769902200@erampubliccollege.in
SUMMARY:PTM/Science Exibition(Grade 1-9)
DESCRIPTION:
URL:https://erampubliccollege.in/event/ptm-science-exibitiongrade-1-9/
CATEGORIES:School Activities
END:VEVENT
BEGIN:VEVENT
DTSTART;TZID=UTC:20260131T000000
DTEND;TZID=UTC:20260131T233000
DTSTAMP:20260421T082723
CREATED:20250811T123936Z
LAST-MODIFIED:20250811T123936Z
UID:13618-1769817600-1769902200@erampubliccollege.in
SUMMARY:PTM (Grade Pre Nur to 9 & 11)
DESCRIPTION:
URL:https://erampubliccollege.in/event/ptm-grade-pre-nur-to-9-11/
CATEGORIES:School Activities
END:VEVENT
END:VCALENDAR